BEGIN:VCALENDAR
VERSION:2.0
PRODID:-//ChamberMaster//Event Calendar 2.0//EN
METHOD:PUBLISH
X-PUBLISHED-TTL:P1H
REFRESH-INTERVAL:P1H
CALSCALE:GREGORIAN
BEGIN:VTIMEZONE
TZID:America/Chicago
BEGIN:DAYLIGHT
RRULE:FREQ=YEARLY;BYMONTH=3;BYDAY=2SU
DTSTART:20070101T000000
TZOFFSETFROM:-0600
TZOFFSETTO:-0500
TZNAME:Central Daylight Time
END:DAYLIGHT
BEGIN:STANDARD
RRULE:FREQ=YEARLY;BYMONTH=11;BYDAY=1SU
DTSTART:20070101T000000
TZOFFSETFROM:-0500
TZOFFSETTO:-0600
TZNAME:Central Standard Time
END:STANDARD
END:VTIMEZONE
BEGIN:VEVENT
DTSTART;TZID=America/Chicago:20260506T090004
DTEND;TZID=America/Chicago:20260506T120000
X-MICROSOFT-CDO-ALLDAYEVENT:FALSE
SUMMARY:New Member Orientation
DESCRIPTION:You are invited to attend this event because you have not attended a New Member Orientation\, which is part of your membership requirements. This is separate from your MLS training\, installation\, and code of ethics requirements\, all of which you may have already completed. Bylaws text regarding attendance at new member indoctrination: An applicant for REALTOR Membership\; agrees to complete the required indoctrination courses covering the Bylaws and Rules and Regulations of the Board\, the Bylaws of the State Association\, and the Constitution and Bylaws and Code of Ethics of the NATIONAL ASSOCIATION OF REALTORS. In the event the member does not comply with the completion of the course of instruction within two (2) offerings\, the Board of Directors will determine whether to suspend the members membership or to grant an extension to complete the requirement.
X-ALT-DESC;FMTTYPE=text/html:You are invited to attend this event because you have not attended a New Member Orientation\, which is part of your membership requirements. This is separate from your MLS training\, installation\, and code of ethics requirements\, all of which you may have already completed. Bylaws text regarding attendance at new member indoctrination: An applicant for REALTOR Membership\; agrees to complete the required indoctrination courses covering the Bylaws and Rules and Regulations of the Board\, the Bylaws of the State Association\, and the Constitution and Bylaws and Code of Ethics of the NATIONAL ASSOCIATION OF REALTORS. In the event the member does not comply with the completion of the course of instruction within two (2) offerings\, the Board of Directors will determine whether to suspend the members membership or to grant an extension to complete the requirement.
LOCATION:1616 Capitol Way Bismarck ND 58501
UID:e.3365.1325232
SEQUENCE:3
DTSTAMP:20260420T171021Z
URL:https://business.bmbor.org/calendar/Details/new-member-orientation-1555000?sourceTypeId=Hub
END:VEVENT
END:VCALENDAR
